BEGIN:VCALENDAR
VERSION:2.0
PRODID:-//E3 Family Solutions - ECPv6.15.13//NONSGML v1.0//EN
CALSCALE:GREGORIAN
METHOD:PUBLISH
X-WR-CALNAME:E3 Family Solutions
X-ORIGINAL-URL:https://e3familysolutions.org
X-WR-CALDESC:Events for E3 Family Solutions
REFRESH-INTERVAL;VALUE=DURATION:PT1H
X-Robots-Tag:noindex
X-PUBLISHED-TTL:PT1H
BEGIN:VTIMEZONE
TZID:America/New_York
BEGIN:DAYLIGHT
TZOFFSETFROM:-0500
TZOFFSETTO:-0400
TZNAME:EDT
DTSTART:20240310T070000
END:DAYLIGHT
BEGIN:STANDARD
TZOFFSETFROM:-0400
TZOFFSETTO:-0500
TZNAME:EST
DTSTART:20241103T060000
END:STANDARD
BEGIN:DAYLIGHT
TZOFFSETFROM:-0500
TZOFFSETTO:-0400
TZNAME:EDT
DTSTART:20250309T070000
END:DAYLIGHT
BEGIN:STANDARD
TZOFFSETFROM:-0400
TZOFFSETTO:-0500
TZNAME:EST
DTSTART:20251102T060000
END:STANDARD
BEGIN:DAYLIGHT
TZOFFSETFROM:-0500
TZOFFSETTO:-0400
TZNAME:EDT
DTSTART:20260308T070000
END:DAYLIGHT
BEGIN:STANDARD
TZOFFSETFROM:-0400
TZOFFSETTO:-0500
TZNAME:EST
DTSTART:20261101T060000
END:STANDARD
END:VTIMEZONE
BEGIN:VEVENT
DTSTART;TZID=America/New_York:20251103T000000
DTEND;TZID=America/New_York:20251103T235959
DTSTAMP:20260422T064411
CREATED:20251006T234247Z
LAST-MODIFIED:20251103T111328Z
UID:10000729-1762128000-1762214399@e3familysolutions.org
SUMMARY:Weeki Wachee HS Equipping Youth Program
DESCRIPTION:
URL:https://e3familysolutions.org/event/weeki-wachee-hs-equipping-youth-program-4/
LOCATION:Weeki Wachee High School\, Brooksville\, FL\, United States
GEO:28.627958;-82.536465
END:VEVENT
BEGIN:VEVENT
DTSTART;TZID=America/New_York:20251103T000000
DTEND;TZID=America/New_York:20251103T235959
DTSTAMP:20260422T064411
CREATED:20251021T092302Z
LAST-MODIFIED:20251103T111328Z
UID:10000760-1762128000-1762214399@e3familysolutions.org
SUMMARY:Sumter Adult Ed.- Equipping Youth Program
DESCRIPTION:
URL:https://e3familysolutions.org/event/sumter-adult-ed-equipping-youth-program-2/
END:VEVENT
BEGIN:VEVENT
DTSTART;TZID=America/New_York:20251103T101500
DTEND;TZID=America/New_York:20251103T120000
DTSTAMP:20260422T064411
CREATED:20250729T150508Z
LAST-MODIFIED:20251020T091650Z
UID:10000665-1762164900-1762171200@e3familysolutions.org
SUMMARY:Sumter Adult Ed.-Equipping Youth Program
DESCRIPTION:
URL:https://e3familysolutions.org/event/sumter-adult-ed-sessions/
LOCATION:Sumter County Adult Education\, 1425 Co Rd 526A\, Sumterville\, FL\, United States
GEO:28.738509;-82.062799
X-APPLE-STRUCTURED-LOCATION;VALUE=URI;X-ADDRESS=Sumter County Adult Education 1425 Co Rd 526A Sumterville FL United States;X-APPLE-RADIUS=500;X-TITLE=1425 Co Rd 526A:geo:-82.062799,28.738509
END:VEVENT
BEGIN:VEVENT
DTSTART;TZID=America/New_York:20251104T000000
DTEND;TZID=America/New_York:20251104T235959
DTSTAMP:20260422T064411
CREATED:20250716T135811Z
LAST-MODIFIED:20251104T112329Z
UID:10000644-1762214400-1762300799@e3familysolutions.org
SUMMARY:Wildwood Middle High School -Equipping Youth Program
DESCRIPTION:
URL:https://e3familysolutions.org/event/wmhs-session-9/
LOCATION:Wildwood Middle High School\, 700 Huey St\, Wildwood\, FL\, United States
GEO:28.858149;-82.032449
X-APPLE-STRUCTURED-LOCATION;VALUE=URI;X-ADDRESS=Wildwood Middle High School 700 Huey St Wildwood FL United States;X-APPLE-RADIUS=500;X-TITLE=700 Huey St:geo:-82.032449,28.858149
END:VEVENT
BEGIN:VEVENT
DTSTART;TZID=America/New_York:20251104T000000
DTEND;TZID=America/New_York:20251104T235959
DTSTAMP:20260422T064411
CREATED:20251021T092303Z
LAST-MODIFIED:20251104T112329Z
UID:10000761-1762214400-1762300799@e3familysolutions.org
SUMMARY:Sumter Prep Academy Equipping Youth Program
DESCRIPTION:
URL:https://e3familysolutions.org/event/sumter-prep-academy-equipping-youth-program-4/
END:VEVENT
BEGIN:VEVENT
DTSTART;TZID=America/New_York:20251104T163000
DTEND;TZID=America/New_York:20251104T180000
DTSTAMP:20260422T064411
CREATED:20251006T234247Z
LAST-MODIFIED:20251104T112330Z
UID:10000730-1762273800-1762279200@e3familysolutions.org
SUMMARY:E3 Board Mtg
DESCRIPTION:
URL:https://e3familysolutions.org/event/e3-board-mtg/
LOCATION:2919 Co Rd 714\, Bushnell\, FL\, United States
GEO:28.676288;-82.149168
END:VEVENT
BEGIN:VEVENT
DTSTART;TZID=America/New_York:20251106T000000
DTEND;TZID=America/New_York:20251106T235959
DTSTAMP:20260422T064411
CREATED:20250716T135812Z
LAST-MODIFIED:20251106T114921Z
UID:10000645-1762387200-1762473599@e3familysolutions.org
SUMMARY:Wildwood Middle High School -Equipping Youth Program
DESCRIPTION:
URL:https://e3familysolutions.org/event/wmhs-session-10/
LOCATION:Wildwood Middle High School\, 700 Huey St\, Wildwood\, FL\, United States
GEO:28.858149;-82.032449
X-APPLE-STRUCTURED-LOCATION;VALUE=URI;X-ADDRESS=Wildwood Middle High School 700 Huey St Wildwood FL United States;X-APPLE-RADIUS=500;X-TITLE=700 Huey St:geo:-82.032449,28.858149
END:VEVENT
BEGIN:VEVENT
DTSTART;TZID=America/New_York:20251106T000000
DTEND;TZID=America/New_York:20251106T235959
DTSTAMP:20260422T064411
CREATED:20251021T092303Z
LAST-MODIFIED:20251106T114920Z
UID:10000762-1762387200-1762473599@e3familysolutions.org
SUMMARY:Sumter Prep Academy Equipping Youth Program
DESCRIPTION:
URL:https://e3familysolutions.org/event/sumter-prep-academy-equipping-youth-program-5/
END:VEVENT
BEGIN:VEVENT
DTSTART;TZID=America/New_York:20251107T000000
DTEND;TZID=America/New_York:20251107T235959
DTSTAMP:20260422T064411
CREATED:20251006T234247Z
LAST-MODIFIED:20251106T114921Z
UID:10000731-1762473600-1762559999@e3familysolutions.org
SUMMARY:Weeki Wachee HS Equipping Youth Program
DESCRIPTION:
URL:https://e3familysolutions.org/event/weeki-wachee-hs-equipping-youth-program-5/
LOCATION:Weeki Wachee High School\, Brooksville\, FL\, United States
GEO:28.627958;-82.536465
END:VEVENT
BEGIN:VEVENT
DTSTART;TZID=America/New_York:20251110T000000
DTEND;TZID=America/New_York:20251110T235959
DTSTAMP:20260422T064411
CREATED:20250729T150509Z
LAST-MODIFIED:20251110T122133Z
UID:10000666-1762732800-1762819199@e3familysolutions.org
SUMMARY:Sumter Adult Ed.-Equipping Youth Program
DESCRIPTION:
URL:https://e3familysolutions.org/event/sumter-adult-ed-sessions-2/
LOCATION:Sumter County Adult Education\, 1425 Co Rd 526A\, Sumterville\, FL\, United States
GEO:28.738509;-82.062799
X-APPLE-STRUCTURED-LOCATION;VALUE=URI;X-ADDRESS=Sumter County Adult Education 1425 Co Rd 526A Sumterville FL United States;X-APPLE-RADIUS=500;X-TITLE=1425 Co Rd 526A:geo:-82.062799,28.738509
END:VEVENT
BEGIN:VEVENT
DTSTART;TZID=America/New_York:20251110T000000
DTEND;TZID=America/New_York:20251110T235959
DTSTAMP:20260422T064411
CREATED:20251021T092303Z
LAST-MODIFIED:20251110T122133Z
UID:10000763-1762732800-1762819199@e3familysolutions.org
SUMMARY:Weeki Wachee HS- Equipping Youth Program
DESCRIPTION:
URL:https://e3familysolutions.org/event/weeki-wachee-hs-equipping-youth-program-11/
END:VEVENT
BEGIN:VEVENT
DTSTART;TZID=America/New_York:20251111T090000
DTEND;TZID=America/New_York:20251111T100000
DTSTAMP:20260422T064411
CREATED:20250712T132056Z
LAST-MODIFIED:20251111T123459Z
UID:10000606-1762851600-1762855200@e3familysolutions.org
SUMMARY:Florida Tobacco Free Coalition
DESCRIPTION:
URL:https://e3familysolutions.org/event/florida-tobacco-free-coalition-4/
END:VEVENT
BEGIN:VEVENT
DTSTART;TZID=America/New_York:20251112T000000
DTEND;TZID=America/New_York:20251112T235959
DTSTAMP:20260422T064411
CREATED:20251006T234248Z
LAST-MODIFIED:20251112T123515Z
UID:10000732-1762905600-1762991999@e3familysolutions.org
SUMMARY:Weeki Wachee HS Equipping Youth Program
DESCRIPTION:
URL:https://e3familysolutions.org/event/weeki-wachee-hs-equipping-youth-program-6/
LOCATION:Weeki Wachee High School\, Brooksville\, FL\, United States
GEO:28.627958;-82.536465
END:VEVENT
BEGIN:VEVENT
DTSTART;TZID=America/New_York:20251113T000000
DTEND;TZID=America/New_York:20251113T235959
DTSTAMP:20260422T064411
CREATED:20250716T135812Z
LAST-MODIFIED:20251113T123621Z
UID:10000646-1762992000-1763078399@e3familysolutions.org
SUMMARY:Wildwood Middle High School -Equipping Youth Program
DESCRIPTION:
URL:https://e3familysolutions.org/event/wmhs-session-11/
LOCATION:Wildwood Middle High School\, 700 Huey St\, Wildwood\, FL\, United States
GEO:28.858149;-82.032449
X-APPLE-STRUCTURED-LOCATION;VALUE=URI;X-ADDRESS=Wildwood Middle High School 700 Huey St Wildwood FL United States;X-APPLE-RADIUS=500;X-TITLE=700 Huey St:geo:-82.032449,28.858149
END:VEVENT
BEGIN:VEVENT
DTSTART;TZID=America/New_York:20251113T000000
DTEND;TZID=America/New_York:20251113T235959
DTSTAMP:20260422T064411
CREATED:20251021T092304Z
LAST-MODIFIED:20251113T123620Z
UID:10000764-1762992000-1763078399@e3familysolutions.org
SUMMARY:Sumter Prep Academy Equipping Youth Program
DESCRIPTION:
URL:https://e3familysolutions.org/event/sumter-prep-academy-equipping-youth-program-6/
END:VEVENT
BEGIN:VEVENT
DTSTART;TZID=America/New_York:20251113T100000
DTEND;TZID=America/New_York:20251113T110000
DTSTAMP:20260422T064411
CREATED:20231113T222311Z
LAST-MODIFIED:20240414T163710Z
UID:10000542-1763028000-1763031600@e3familysolutions.org
SUMMARY:Nature Coast Human Trafficking Task Force
DESCRIPTION:janine kell is inviting you to a scheduled Zoom meeting.\nTopic: Nature Coast Human Trafficking Task Force\nTime: This is a recurring meeting Meet anytime\nJoin Zoom Meeting\nhttps://us06web.zoom.us/j/84621778187?pwd=UGkzM1doUUw3U0hyUE5WOFFXdFFmZz09\nMeeting ID: 846 2177 8187\nPasscode: 747719\nOne tap mobile\n+13052241968\,\,84621778187#\,\,\,\,*747719# US\n+16468769923\,\,84621778187#\,\,\,\,*747719# US (New York)\nDial by your location\n        +1 305 224 1968 US\n        +1 646 876 9923 US (New York)\n        +1 646 931 3860 US\n        +1 301 715 8592 US (Washington DC)\n        +1 309 205 3325 US\n        +1 312 626 6799 US (Chicago)\n        +1 253 215 8782 US (Tacoma)\n        +1 346 248 7799 US (Houston)\n        +1 360 209 5623 US\n        +1 386 347 5053 US\n        +1 408 638 0968 US (San Jose)\n        +1 507 473 4847 US\n        +1 564 217 2000 US\n        +1 669 444 9171 US\n        +1 669 900 6833 US (San Jose)\n        +1 689 278 1000 US\n        +1 719 359 4580 US\n        +1 253 205 0468 US\nMeeting ID: 846 2177 8187\nPasscode: 747719\nFind your local number: https://us06web.zoom.us/u/kdkNTCSCKI
URL:https://e3familysolutions.org/event/nature-coast-human-trafficking-task-force-30/
END:VEVENT
BEGIN:VEVENT
DTSTART;TZID=America/New_York:20251113T113000
DTEND;TZID=America/New_York:20251113T130000
DTSTAMP:20260422T064411
CREATED:20250712T132056Z
LAST-MODIFIED:20251113T123620Z
UID:10000607-1763033400-1763038800@e3familysolutions.org
SUMMARY:Sumter Non-Profit Council Meeting
DESCRIPTION:
URL:https://e3familysolutions.org/event/sumter-non-profit-council-meeting-3/
LOCATION:Kids Central Inc (901 Industrial Dr Ste 200\, Wildwood\, FL 34785\, United States)
END:VEVENT
BEGIN:VEVENT
DTSTART;TZID=America/New_York:20251113T113000
DTEND;TZID=America/New_York:20251113T130000
DTSTAMP:20260422T064411
CREATED:20250712T132056Z
LAST-MODIFIED:20251113T123621Z
UID:10000608-1763033400-1763038800@e3familysolutions.org
SUMMARY:Sumter Non-Profit Council Meeting
DESCRIPTION:
URL:https://e3familysolutions.org/event/sumter-non-profit-council-meeting-4/
LOCATION:Kids Central Inc (901 Industrial Dr Ste 200\, Wildwood\, FL 34785\, United States)
END:VEVENT
BEGIN:VEVENT
DTSTART;TZID=America/New_York:20251114T000000
DTEND;TZID=America/New_York:20251114T235959
DTSTAMP:20260422T064411
CREATED:20251006T234248Z
LAST-MODIFIED:20251114T123645Z
UID:10000733-1763078400-1763164799@e3familysolutions.org
SUMMARY:Weeki Wachee HS Equipping Youth Program
DESCRIPTION:
URL:https://e3familysolutions.org/event/weeki-wachee-hs-equipping-youth-program-7/
LOCATION:Weeki Wachee High School\, Brooksville\, FL\, United States
GEO:28.627958;-82.536465
END:VEVENT
BEGIN:VEVENT
DTSTART;TZID=America/New_York:20251114T160000
DTEND;TZID=America/New_York:20251114T180000
DTSTAMP:20260422T064411
CREATED:20251006T234248Z
LAST-MODIFIED:20251114T123645Z
UID:10000734-1763136000-1763143200@e3familysolutions.org
SUMMARY:SSMS Friday Night Done Right event
DESCRIPTION:Sign in at the office and have the gate opened by the gym to unload and park to set up in the gym by3:30 pm
URL:https://e3familysolutions.org/event/ssms-friday-night-done-right-event-2/
LOCATION:South Sumter Middle School\, 679 NW 10th Ave\, Webster\, FL\, United States
GEO:28.620949;-82.062989
X-APPLE-STRUCTURED-LOCATION;VALUE=URI;X-ADDRESS=South Sumter Middle School 679 NW 10th Ave Webster FL United States;X-APPLE-RADIUS=500;X-TITLE=679 NW 10th Ave:geo:-82.062989,28.620949
END:VEVENT
BEGIN:VEVENT
DTSTART;TZID=America/New_York:20251117T000000
DTEND;TZID=America/New_York:20251117T235959
DTSTAMP:20260422T064411
CREATED:20251006T234249Z
LAST-MODIFIED:20251117T130617Z
UID:10000735-1763337600-1763423999@e3familysolutions.org
SUMMARY:Weeki Wachee HS Equipping Youth Program
DESCRIPTION:
URL:https://e3familysolutions.org/event/weeki-wachee-hs-equipping-youth-program-8/
LOCATION:Weeki Wachee High School\, Brooksville\, FL\, United States
GEO:28.627958;-82.536465
END:VEVENT
BEGIN:VEVENT
DTSTART;TZID=America/New_York:20251118T000000
DTEND;TZID=America/New_York:20251118T235959
DTSTAMP:20260422T064411
CREATED:20250716T135812Z
LAST-MODIFIED:20251117T130617Z
UID:10000647-1763424000-1763510399@e3familysolutions.org
SUMMARY:Wildwood Middle High School -Equipping Youth Program
DESCRIPTION:
URL:https://e3familysolutions.org/event/wmhs-session-12/
LOCATION:Wildwood Middle High School\, 700 Huey St\, Wildwood\, FL\, United States
GEO:28.858149;-82.032449
X-APPLE-STRUCTURED-LOCATION;VALUE=URI;X-ADDRESS=Wildwood Middle High School 700 Huey St Wildwood FL United States;X-APPLE-RADIUS=500;X-TITLE=700 Huey St:geo:-82.032449,28.858149
END:VEVENT
BEGIN:VEVENT
DTSTART;TZID=America/New_York:20251118T000000
DTEND;TZID=America/New_York:20251118T235959
DTSTAMP:20260422T064411
CREATED:20251021T092305Z
LAST-MODIFIED:20251117T130617Z
UID:10000765-1763424000-1763510399@e3familysolutions.org
SUMMARY:Sumter Prep Academy Equipping Youth Program
DESCRIPTION:
URL:https://e3familysolutions.org/event/sumter-prep-academy-equipping-youth-program-7/
END:VEVENT
BEGIN:VEVENT
DTSTART;TZID=America/New_York:20251119T000000
DTEND;TZID=America/New_York:20251119T235959
DTSTAMP:20260422T064411
CREATED:20251006T234249Z
LAST-MODIFIED:20251117T130617Z
UID:10000736-1763510400-1763596799@e3familysolutions.org
SUMMARY:Weeki Wachee HS Equipping Youth Program
DESCRIPTION:
URL:https://e3familysolutions.org/event/weeki-wachee-hs-equipping-youth-program-9/
LOCATION:Weeki Wachee High School\, Brooksville\, FL\, United States
GEO:28.627958;-82.536465
END:VEVENT
BEGIN:VEVENT
DTSTART;TZID=America/New_York:20251120T000000
DTEND;TZID=America/New_York:20251120T235959
DTSTAMP:20260422T064411
CREATED:20251021T092305Z
LAST-MODIFIED:20251117T130617Z
UID:10000766-1763596800-1763683199@e3familysolutions.org
SUMMARY:Sumter Prep Academy Equipping Youth Program
DESCRIPTION:
URL:https://e3familysolutions.org/event/sumter-prep-academy-equipping-youth-program-8/
END:VEVENT
BEGIN:VEVENT
DTSTART;TZID=America/New_York:20251121T000000
DTEND;TZID=America/New_York:20251121T235959
DTSTAMP:20260422T064411
CREATED:20251006T234249Z
LAST-MODIFIED:20251117T130618Z
UID:10000737-1763683200-1763769599@e3familysolutions.org
SUMMARY:Weeki Wachee HS Equipping Youth Program
DESCRIPTION:
URL:https://e3familysolutions.org/event/weeki-wachee-hs-equipping-youth-program-10/
LOCATION:Weeki Wachee High School\, Brooksville\, FL\, United States
GEO:28.627958;-82.536465
END:VEVENT
END:VCALENDAR