BEGIN:VCALENDAR
VERSION:2.0
PRODID:-//E3 Family Solutions - ECPv6.15.13//NONSGML v1.0//EN
CALSCALE:GREGORIAN
METHOD:PUBLISH
X-ORIGINAL-URL:https://e3familysolutions.org
X-WR-CALDESC:Events for E3 Family Solutions
REFRESH-INTERVAL;VALUE=DURATION:PT1H
X-Robots-Tag:noindex
X-PUBLISHED-TTL:PT1H
BEGIN:VTIMEZONE
TZID:America/New_York
BEGIN:DAYLIGHT
TZOFFSETFROM:-0500
TZOFFSETTO:-0400
TZNAME:EDT
DTSTART:20240310T070000
END:DAYLIGHT
BEGIN:STANDARD
TZOFFSETFROM:-0400
TZOFFSETTO:-0500
TZNAME:EST
DTSTART:20241103T060000
END:STANDARD
BEGIN:DAYLIGHT
TZOFFSETFROM:-0500
TZOFFSETTO:-0400
TZNAME:EDT
DTSTART:20250309T070000
END:DAYLIGHT
BEGIN:STANDARD
TZOFFSETFROM:-0400
TZOFFSETTO:-0500
TZNAME:EST
DTSTART:20251102T060000
END:STANDARD
BEGIN:DAYLIGHT
TZOFFSETFROM:-0500
TZOFFSETTO:-0400
TZNAME:EDT
DTSTART:20260308T070000
END:DAYLIGHT
BEGIN:STANDARD
TZOFFSETFROM:-0400
TZOFFSETTO:-0500
TZNAME:EST
DTSTART:20261101T060000
END:STANDARD
END:VTIMEZONE
BEGIN:VEVENT
DTSTART;TZID=America/New_York:20251201T000000
DTEND;TZID=America/New_York:20251201T235959
DTSTAMP:20260422T052307
CREATED:20250818T172803Z
LAST-MODIFIED:20251117T130618Z
UID:10000683-1764547200-1764633599@e3familysolutions.org
SUMMARY:South Sumter Middle School- Equipping Youth Program
DESCRIPTION:
URL:https://e3familysolutions.org/event/ssms-session-1/
LOCATION:South Sumter Middle School\, 679 NW 10th Ave\, Webster\, FL\, United States
GEO:28.620949;-82.062989
X-APPLE-STRUCTURED-LOCATION;VALUE=URI;X-ADDRESS=South Sumter Middle School 679 NW 10th Ave Webster FL United States;X-APPLE-RADIUS=500;X-TITLE=679 NW 10th Ave:geo:-82.062989,28.620949
END:VEVENT
BEGIN:VEVENT
DTSTART;TZID=America/New_York:20251201T000000
DTEND;TZID=America/New_York:20251201T235959
DTSTAMP:20260422T052307
CREATED:20251021T092307Z
LAST-MODIFIED:20251117T130618Z
UID:10000771-1764547200-1764633599@e3familysolutions.org
SUMMARY:Hernando HS - Equipping Youth
DESCRIPTION:
URL:https://e3familysolutions.org/event/hernando-hs-equipping-youth-17/
LOCATION:111 Ernie Chatman Run\, Brooksville\, FL\, United States
GEO:28.586197;-82.395858
END:VEVENT
BEGIN:VEVENT
DTSTART;TZID=America/New_York:20251201T070000
DTEND;TZID=America/New_York:20251201T143000
DTSTAMP:20260422T052307
CREATED:20251006T234249Z
LAST-MODIFIED:20251117T130618Z
UID:10000738-1764572400-1764599400@e3familysolutions.org
SUMMARY:Hernando HS - Equipping Youth
DESCRIPTION:
URL:https://e3familysolutions.org/event/hernando-hs-equipping-youth/
LOCATION:111 Ernie Chatman Run\, Brooksville\, FL\, United States
GEO:28.586197;-82.395858
END:VEVENT
BEGIN:VEVENT
DTSTART;TZID=America/New_York:20251202T000000
DTEND;TZID=America/New_York:20251202T235959
DTSTAMP:20260422T052307
CREATED:20251021T092306Z
LAST-MODIFIED:20251117T130618Z
UID:10000770-1764633600-1764719999@e3familysolutions.org
SUMMARY:Hernando HS - Equipping Youth
DESCRIPTION:
URL:https://e3familysolutions.org/event/hernando-hs-equipping-youth-16/
LOCATION:111 Ernie Chatman Run\, Brooksville\, FL\, United States
GEO:28.586197;-82.395858
END:VEVENT
BEGIN:VEVENT
DTSTART;TZID=America/New_York:20251202T070000
DTEND;TZID=America/New_York:20251202T143000
DTSTAMP:20260422T052307
CREATED:20251006T234250Z
LAST-MODIFIED:20251020T091653Z
UID:10000739-1764658800-1764685800@e3familysolutions.org
SUMMARY:Hernando HS - Equipping Youth
DESCRIPTION:
URL:https://e3familysolutions.org/event/hernando-hs-equipping-youth-2/
LOCATION:111 Ernie Chatman Run\, Brooksville\, FL\, United States
GEO:28.586197;-82.395858
END:VEVENT
BEGIN:VEVENT
DTSTART;TZID=America/New_York:20251203T000000
DTEND;TZID=America/New_York:20251203T235959
DTSTAMP:20260422T052307
CREATED:20250818T172803Z
LAST-MODIFIED:20251117T130619Z
UID:10000684-1764720000-1764806399@e3familysolutions.org
SUMMARY:South Sumter Middle School- Equipping Youth Program
DESCRIPTION:
URL:https://e3familysolutions.org/event/ssms-session-2/
LOCATION:South Sumter Middle School\, 679 NW 10th Ave\, Webster\, FL\, United States
GEO:28.620949;-82.062989
X-APPLE-STRUCTURED-LOCATION;VALUE=URI;X-ADDRESS=South Sumter Middle School 679 NW 10th Ave Webster FL United States;X-APPLE-RADIUS=500;X-TITLE=679 NW 10th Ave:geo:-82.062989,28.620949
END:VEVENT
BEGIN:VEVENT
DTSTART;TZID=America/New_York:20251203T000000
DTEND;TZID=America/New_York:20251203T235959
DTSTAMP:20260422T052307
CREATED:20251021T092306Z
LAST-MODIFIED:20251117T130619Z
UID:10000769-1764720000-1764806399@e3familysolutions.org
SUMMARY:Hernando HS - Equipping Youth
DESCRIPTION:
URL:https://e3familysolutions.org/event/hernando-hs-equipping-youth-15/
LOCATION:111 Ernie Chatman Run\, Brooksville\, FL\, United States
GEO:28.586197;-82.395858
END:VEVENT
BEGIN:VEVENT
DTSTART;TZID=America/New_York:20251203T070000
DTEND;TZID=America/New_York:20251203T143000
DTSTAMP:20260422T052307
CREATED:20251006T234250Z
LAST-MODIFIED:20251020T091653Z
UID:10000740-1764745200-1764772200@e3familysolutions.org
SUMMARY:Hernando HS - Equipping Youth
DESCRIPTION:
URL:https://e3familysolutions.org/event/hernando-hs-equipping-youth-3/
LOCATION:111 Ernie Chatman Run\, Brooksville\, FL\, United States
GEO:28.586197;-82.395858
END:VEVENT
BEGIN:VEVENT
DTSTART;TZID=America/New_York:20251204T000000
DTEND;TZID=America/New_York:20251204T235959
DTSTAMP:20260422T052307
CREATED:20251021T092306Z
LAST-MODIFIED:20251117T130619Z
UID:10000768-1764806400-1764892799@e3familysolutions.org
SUMMARY:Hernando HS - Equipping Youth
DESCRIPTION:
URL:https://e3familysolutions.org/event/hernando-hs-equipping-youth-14/
LOCATION:111 Ernie Chatman Run\, Brooksville\, FL\, United States
GEO:28.586197;-82.395858
END:VEVENT
BEGIN:VEVENT
DTSTART;TZID=America/New_York:20251204T070000
DTEND;TZID=America/New_York:20251204T143000
DTSTAMP:20260422T052307
CREATED:20251006T234250Z
LAST-MODIFIED:20251020T091653Z
UID:10000741-1764831600-1764858600@e3familysolutions.org
SUMMARY:Hernando HS - Equipping Youth
DESCRIPTION:
URL:https://e3familysolutions.org/event/hernando-hs-equipping-youth-4/
LOCATION:111 Ernie Chatman Run\, Brooksville\, FL\, United States
GEO:28.586197;-82.395858
END:VEVENT
BEGIN:VEVENT
DTSTART;TZID=America/New_York:20251205T000000
DTEND;TZID=America/New_York:20251205T235959
DTSTAMP:20260422T052307
CREATED:20250818T172803Z
LAST-MODIFIED:20251117T130619Z
UID:10000685-1764892800-1764979199@e3familysolutions.org
SUMMARY:South Sumter Middle School- Equipping Youth Program
DESCRIPTION:
URL:https://e3familysolutions.org/event/ssms-session-3/
LOCATION:South Sumter Middle School\, 679 NW 10th Ave\, Webster\, FL\, United States
GEO:28.620949;-82.062989
X-APPLE-STRUCTURED-LOCATION;VALUE=URI;X-ADDRESS=South Sumter Middle School 679 NW 10th Ave Webster FL United States;X-APPLE-RADIUS=500;X-TITLE=679 NW 10th Ave:geo:-82.062989,28.620949
END:VEVENT
BEGIN:VEVENT
DTSTART;TZID=America/New_York:20251205T000000
DTEND;TZID=America/New_York:20251205T235959
DTSTAMP:20260422T052307
CREATED:20251021T092306Z
LAST-MODIFIED:20251117T130619Z
UID:10000767-1764892800-1764979199@e3familysolutions.org
SUMMARY:Hernando HS - Equipping Youth
DESCRIPTION:
URL:https://e3familysolutions.org/event/hernando-hs-equipping-youth-13/
LOCATION:111 Ernie Chatman Run\, Brooksville\, FL\, United States
GEO:28.586197;-82.395858
END:VEVENT
BEGIN:VEVENT
DTSTART;TZID=America/New_York:20251205T070000
DTEND;TZID=America/New_York:20251205T143000
DTSTAMP:20260422T052307
CREATED:20251006T234250Z
LAST-MODIFIED:20251020T091653Z
UID:10000742-1764918000-1764945000@e3familysolutions.org
SUMMARY:Hernando HS - Equipping Youth
DESCRIPTION:
URL:https://e3familysolutions.org/event/hernando-hs-equipping-youth-5/
LOCATION:111 Ernie Chatman Run\, Brooksville\, FL\, United States
GEO:28.586197;-82.395858
END:VEVENT
BEGIN:VEVENT
DTSTART;TZID=America/New_York:20251206T100000
DTEND;TZID=America/New_York:20251206T130000
DTSTAMP:20260422T052307
CREATED:20251006T234250Z
LAST-MODIFIED:20251117T130619Z
UID:10000743-1765015200-1765026000@e3familysolutions.org
SUMMARY:2025 Laura Vickers Christmas Party for Kids
DESCRIPTION:Set up Sumter CAP tent and booth at 9 am.
URL:https://e3familysolutions.org/event/2025-laura-vickers-christmas-party-for-kids/
LOCATION:Langley Health Services\, Sumterville
END:VEVENT
BEGIN:VEVENT
DTSTART;TZID=America/New_York:20251208T000000
DTEND;TZID=America/New_York:20251208T235959
DTSTAMP:20260422T052307
CREATED:20250818T172803Z
LAST-MODIFIED:20251117T130620Z
UID:10000686-1765152000-1765238399@e3familysolutions.org
SUMMARY:South Sumter Middle School- Equipping Youth Program
DESCRIPTION:
URL:https://e3familysolutions.org/event/ssms-session-4/
LOCATION:South Sumter Middle School\, 679 NW 10th Ave\, Webster\, FL\, United States
GEO:28.620949;-82.062989
X-APPLE-STRUCTURED-LOCATION;VALUE=URI;X-ADDRESS=South Sumter Middle School 679 NW 10th Ave Webster FL United States;X-APPLE-RADIUS=500;X-TITLE=679 NW 10th Ave:geo:-82.062989,28.620949
END:VEVENT
BEGIN:VEVENT
DTSTART;TZID=America/New_York:20251208T000000
DTEND;TZID=America/New_York:20251208T235959
DTSTAMP:20260422T052307
CREATED:20251021T092307Z
LAST-MODIFIED:20251117T130620Z
UID:10000772-1765152000-1765238399@e3familysolutions.org
SUMMARY:Hernando HS - Equipping Youth
DESCRIPTION:
URL:https://e3familysolutions.org/event/hernando-hs-equipping-youth-18/
LOCATION:111 Ernie Chatman Run\, Brooksville\, FL\, United States
GEO:28.586197;-82.395858
END:VEVENT
BEGIN:VEVENT
DTSTART;TZID=America/New_York:20251208T070000
DTEND;TZID=America/New_York:20251208T143000
DTSTAMP:20260422T052307
CREATED:20251006T234251Z
LAST-MODIFIED:20251020T091654Z
UID:10000744-1765177200-1765204200@e3familysolutions.org
SUMMARY:Hernando HS - Equipping Youth
DESCRIPTION:
URL:https://e3familysolutions.org/event/hernando-hs-equipping-youth-6/
LOCATION:111 Ernie Chatman Run\, Brooksville\, FL\, United States
GEO:28.586197;-82.395858
END:VEVENT
BEGIN:VEVENT
DTSTART;TZID=America/New_York:20251209T000000
DTEND;TZID=America/New_York:20251209T235959
DTSTAMP:20260422T052307
CREATED:20251021T092308Z
LAST-MODIFIED:20251117T130620Z
UID:10000773-1765238400-1765324799@e3familysolutions.org
SUMMARY:Hernando HS - Equipping Youth
DESCRIPTION:
URL:https://e3familysolutions.org/event/hernando-hs-equipping-youth-19/
LOCATION:111 Ernie Chatman Run\, Brooksville\, FL\, United States
GEO:28.586197;-82.395858
END:VEVENT
BEGIN:VEVENT
DTSTART;TZID=America/New_York:20251209T070000
DTEND;TZID=America/New_York:20251209T143000
DTSTAMP:20260422T052307
CREATED:20251006T234251Z
LAST-MODIFIED:20251020T091654Z
UID:10000745-1765263600-1765290600@e3familysolutions.org
SUMMARY:Hernando HS - Equipping Youth
DESCRIPTION:
URL:https://e3familysolutions.org/event/hernando-hs-equipping-youth-7/
LOCATION:111 Ernie Chatman Run\, Brooksville\, FL\, United States
GEO:28.586197;-82.395858
END:VEVENT
BEGIN:VEVENT
DTSTART;TZID=America/New_York:20251209T090000
DTEND;TZID=America/New_York:20251209T100000
DTSTAMP:20260422T052307
CREATED:20250712T132056Z
LAST-MODIFIED:20251117T130620Z
UID:10000609-1765270800-1765274400@e3familysolutions.org
SUMMARY:Florida Tobacco Free Coalition
DESCRIPTION:
URL:https://e3familysolutions.org/event/florida-tobacco-free-coalition-5/
END:VEVENT
BEGIN:VEVENT
DTSTART;TZID=America/New_York:20251209T120000
DTEND;TZID=America/New_York:20251209T130000
DTSTAMP:20260422T052307
CREATED:20231209T233801Z
LAST-MODIFIED:20251117T130620Z
UID:10000543-1765281600-1765285200@e3familysolutions.org
SUMMARY:Sumter CAP Coalition Meeting
DESCRIPTION:
URL:https://e3familysolutions.org/event/sumter-cap-coalition-meeting-20/
END:VEVENT
BEGIN:VEVENT
DTSTART;TZID=America/New_York:20251209T120000
DTEND;TZID=America/New_York:20251209T130000
DTSTAMP:20260422T052307
CREATED:20250815T165250Z
LAST-MODIFIED:20251117T130620Z
UID:10000676-1765281600-1765285200@e3familysolutions.org
SUMMARY:Sumter CAP Coalition Meeting
DESCRIPTION:Sumter C.A.P. is inviting you to a scheduled Zoom meeting.\nJoin Zoom Meeting\nhttps://us06web.zoom.us/j/82696723672?pwd=Sq7eTH0S6Bbgn9KbgUjDyG29eEz2LE.1\nMeeting ID: 826 9672 3672\nPasscode: 313208\n—\nOne tap mobile\n+13052241968\,\,82696723672#\,\,\,\,*313208# US\n+16469313860\,\,82696723672#\,\,\,\,*313208# US\n—\nDial by your location\n• +1 305 224 1968 US\n• +1 646 931 3860 US\n• +1 929 205 6099 US (New York)\n• +1 301 715 8592 US (Washington DC)\n• +1 309 205 3325 US\n• +1 312 626 6799 US (Chicago)\n• +1 689 278 1000 US\n• +1 719 359 4580 US\n• +1 253 205 0468 US\n• +1 253 215 8782 US (Tacoma)\n• +1 346 248 7799 US (Houston)\n• +1 360 209 5623 US\n• +1 386 347 5053 US\n• +1 507 473 4847 US\n• +1 564 217 2000 US\n• +1 669 444 9171 US\n• +1 669 900 6833 US (San Jose)\nMeeting ID: 826 9672 3672\nPasscode: 313208\nFind your local number: https://us06web.zoom.us/u/kkHJidRv
URL:https://e3familysolutions.org/event/sumter-cap-coalition-meeting-33/
LOCATION:https://us06web.zoom.us/j/82696723672?pwd=Sq7eTH0S6Bbgn9KbgUjDyG29eEz2LE.1
END:VEVENT
BEGIN:VEVENT
DTSTART;TZID=America/New_York:20251210T000000
DTEND;TZID=America/New_York:20251210T235959
DTSTAMP:20260422T052307
CREATED:20251021T092308Z
LAST-MODIFIED:20251117T130620Z
UID:10000776-1765324800-1765411199@e3familysolutions.org
SUMMARY:Hernando HS - Equipping Youth
DESCRIPTION:
URL:https://e3familysolutions.org/event/hernando-hs-equipping-youth-22/
LOCATION:111 Ernie Chatman Run\, Brooksville\, FL\, United States
GEO:28.586197;-82.395858
END:VEVENT
BEGIN:VEVENT
DTSTART;TZID=America/New_York:20251210T070000
DTEND;TZID=America/New_York:20251210T143000
DTSTAMP:20260422T052307
CREATED:20251006T234251Z
LAST-MODIFIED:20251020T091654Z
UID:10000746-1765350000-1765377000@e3familysolutions.org
SUMMARY:Hernando HS - Equipping Youth
DESCRIPTION:
URL:https://e3familysolutions.org/event/hernando-hs-equipping-youth-8/
LOCATION:111 Ernie Chatman Run\, Brooksville\, FL\, United States
GEO:28.586197;-82.395858
END:VEVENT
BEGIN:VEVENT
DTSTART;TZID=America/New_York:20251211T000000
DTEND;TZID=America/New_York:20251211T235959
DTSTAMP:20260422T052307
CREATED:20251021T092308Z
LAST-MODIFIED:20251117T130621Z
UID:10000775-1765411200-1765497599@e3familysolutions.org
SUMMARY:Hernando HS - Equipping Youth
DESCRIPTION:
URL:https://e3familysolutions.org/event/hernando-hs-equipping-youth-21/
LOCATION:111 Ernie Chatman Run\, Brooksville\, FL\, United States
GEO:28.586197;-82.395858
END:VEVENT
BEGIN:VEVENT
DTSTART;TZID=America/New_York:20251211T070000
DTEND;TZID=America/New_York:20251211T143000
DTSTAMP:20260422T052307
CREATED:20251006T234251Z
LAST-MODIFIED:20251020T091655Z
UID:10000747-1765436400-1765463400@e3familysolutions.org
SUMMARY:Hernando HS - Equipping Youth
DESCRIPTION:
URL:https://e3familysolutions.org/event/hernando-hs-equipping-youth-9/
LOCATION:111 Ernie Chatman Run\, Brooksville\, FL\, United States
GEO:28.586197;-82.395858
END:VEVENT
BEGIN:VEVENT
DTSTART;TZID=America/New_York:20251211T100000
DTEND;TZID=America/New_York:20251211T110000
DTSTAMP:20260422T052307
CREATED:20231211T233802Z
LAST-MODIFIED:20240414T163710Z
UID:10000544-1765447200-1765450800@e3familysolutions.org
SUMMARY:Nature Coast Human Trafficking Task Force
DESCRIPTION:janine kell is inviting you to a scheduled Zoom meeting.\nTopic: Nature Coast Human Trafficking Task Force\nTime: This is a recurring meeting Meet anytime\nJoin Zoom Meeting\nhttps://us06web.zoom.us/j/84621778187?pwd=UGkzM1doUUw3U0hyUE5WOFFXdFFmZz09\nMeeting ID: 846 2177 8187\nPasscode: 747719\nOne tap mobile\n+13052241968\,\,84621778187#\,\,\,\,*747719# US\n+16468769923\,\,84621778187#\,\,\,\,*747719# US (New York)\nDial by your location\n        +1 305 224 1968 US\n        +1 646 876 9923 US (New York)\n        +1 646 931 3860 US\n        +1 301 715 8592 US (Washington DC)\n        +1 309 205 3325 US\n        +1 312 626 6799 US (Chicago)\n        +1 253 215 8782 US (Tacoma)\n        +1 346 248 7799 US (Houston)\n        +1 360 209 5623 US\n        +1 386 347 5053 US\n        +1 408 638 0968 US (San Jose)\n        +1 507 473 4847 US\n        +1 564 217 2000 US\n        +1 669 444 9171 US\n        +1 669 900 6833 US (San Jose)\n        +1 689 278 1000 US\n        +1 719 359 4580 US\n        +1 253 205 0468 US\nMeeting ID: 846 2177 8187\nPasscode: 747719\nFind your local number: https://us06web.zoom.us/u/kdkNTCSCKI
URL:https://e3familysolutions.org/event/nature-coast-human-trafficking-task-force-31/
END:VEVENT
BEGIN:VEVENT
DTSTART;TZID=America/New_York:20251212T000000
DTEND;TZID=America/New_York:20251212T235959
DTSTAMP:20260422T052307
CREATED:20250818T172804Z
LAST-MODIFIED:20251117T130621Z
UID:10000687-1765497600-1765583999@e3familysolutions.org
SUMMARY:South Sumter Middle School- Equipping Youth Program
DESCRIPTION:
URL:https://e3familysolutions.org/event/ssms-session-5-2/
LOCATION:South Sumter Middle School\, 679 NW 10th Ave\, Webster\, FL\, United States
GEO:28.620949;-82.062989
X-APPLE-STRUCTURED-LOCATION;VALUE=URI;X-ADDRESS=South Sumter Middle School 679 NW 10th Ave Webster FL United States;X-APPLE-RADIUS=500;X-TITLE=679 NW 10th Ave:geo:-82.062989,28.620949
END:VEVENT
BEGIN:VEVENT
DTSTART;TZID=America/New_York:20251212T000000
DTEND;TZID=America/New_York:20251212T235959
DTSTAMP:20260422T052307
CREATED:20251021T092308Z
LAST-MODIFIED:20251117T130621Z
UID:10000774-1765497600-1765583999@e3familysolutions.org
SUMMARY:Hernando HS - Equipping Youth
DESCRIPTION:
URL:https://e3familysolutions.org/event/hernando-hs-equipping-youth-20/
LOCATION:111 Ernie Chatman Run\, Brooksville\, FL\, United States
GEO:28.586197;-82.395858
END:VEVENT
BEGIN:VEVENT
DTSTART;TZID=America/New_York:20251212T070000
DTEND;TZID=America/New_York:20251212T143000
DTSTAMP:20260422T052307
CREATED:20251006T234252Z
LAST-MODIFIED:20251020T091655Z
UID:10000748-1765522800-1765549800@e3familysolutions.org
SUMMARY:Hernando HS - Equipping Youth
DESCRIPTION:
URL:https://e3familysolutions.org/event/hernando-hs-equipping-youth-10/
LOCATION:111 Ernie Chatman Run\, Brooksville\, FL\, United States
GEO:28.586197;-82.395858
END:VEVENT
END:VCALENDAR