BEGIN:VCALENDAR
VERSION:2.0
PRODID:-//E3 Family Solutions - ECPv6.15.13//NONSGML v1.0//EN
CALSCALE:GREGORIAN
METHOD:PUBLISH
X-ORIGINAL-URL:https://e3familysolutions.org
X-WR-CALDESC:Events for E3 Family Solutions
REFRESH-INTERVAL;VALUE=DURATION:PT1H
X-Robots-Tag:noindex
X-PUBLISHED-TTL:PT1H
BEGIN:VTIMEZONE
TZID:America/New_York
BEGIN:DAYLIGHT
TZOFFSETFROM:-0500
TZOFFSETTO:-0400
TZNAME:EDT
DTSTART:20250309T070000
END:DAYLIGHT
BEGIN:STANDARD
TZOFFSETFROM:-0400
TZOFFSETTO:-0500
TZNAME:EST
DTSTART:20251102T060000
END:STANDARD
BEGIN:DAYLIGHT
TZOFFSETFROM:-0500
TZOFFSETTO:-0400
TZNAME:EDT
DTSTART:20260308T070000
END:DAYLIGHT
BEGIN:STANDARD
TZOFFSETFROM:-0400
TZOFFSETTO:-0500
TZNAME:EST
DTSTART:20261101T060000
END:STANDARD
BEGIN:DAYLIGHT
TZOFFSETFROM:-0500
TZOFFSETTO:-0400
TZNAME:EDT
DTSTART:20270314T070000
END:DAYLIGHT
BEGIN:STANDARD
TZOFFSETFROM:-0400
TZOFFSETTO:-0500
TZNAME:EST
DTSTART:20271107T060000
END:STANDARD
END:VTIMEZONE
BEGIN:VTIMEZONE
TZID:America/Denver
BEGIN:DAYLIGHT
TZOFFSETFROM:-0700
TZOFFSETTO:-0600
TZNAME:MDT
DTSTART:20250309T090000
END:DAYLIGHT
BEGIN:STANDARD
TZOFFSETFROM:-0600
TZOFFSETTO:-0700
TZNAME:MST
DTSTART:20251102T080000
END:STANDARD
BEGIN:DAYLIGHT
TZOFFSETFROM:-0700
TZOFFSETTO:-0600
TZNAME:MDT
DTSTART:20260308T090000
END:DAYLIGHT
BEGIN:STANDARD
TZOFFSETFROM:-0600
TZOFFSETTO:-0700
TZNAME:MST
DTSTART:20261101T080000
END:STANDARD
BEGIN:DAYLIGHT
TZOFFSETFROM:-0700
TZOFFSETTO:-0600
TZNAME:MDT
DTSTART:20270314T090000
END:DAYLIGHT
BEGIN:STANDARD
TZOFFSETFROM:-0600
TZOFFSETTO:-0700
TZNAME:MST
DTSTART:20271107T080000
END:STANDARD
END:VTIMEZONE
BEGIN:VEVENT
DTSTART;TZID=America/New_York:20260201T000000
DTEND;TZID=America/New_York:20260201T235959
DTSTAMP:20260422T052303
CREATED:20250827T175228Z
LAST-MODIFIED:20251117T130621Z
UID:10000694-1769904000-1769990399@e3familysolutions.org
SUMMARY:NATIONAL TEEN DATING VIOLENCE AWARENESS MONTH
DESCRIPTION:https://www.daysoftheyear.com/days/national-teen-dating-violence-awareness-month/
URL:https://e3familysolutions.org/event/national-teen-dating-violence-awareness-month/
END:VEVENT
BEGIN:VEVENT
DTSTART;TZID=America/New_York:20260203T000000
DTEND;TZID=America/New_York:20260203T235959
DTSTAMP:20260422T052303
CREATED:20250722T143539Z
LAST-MODIFIED:20251117T130622Z
UID:10000648-1770076800-1770163199@e3familysolutions.org
SUMMARY:WMHS- Session 1
DESCRIPTION:
URL:https://e3familysolutions.org/event/wmhs-session-1-2/
LOCATION:Wildwood Middle High School\, 700 Huey St\, Wildwood\, FL\, United States
GEO:28.858149;-82.032449
X-APPLE-STRUCTURED-LOCATION;VALUE=URI;X-ADDRESS=Wildwood Middle High School 700 Huey St Wildwood FL United States;X-APPLE-RADIUS=500;X-TITLE=700 Huey St:geo:-82.032449,28.858149
END:VEVENT
BEGIN:VEVENT
DTSTART;TZID=America/New_York:20260205T000000
DTEND;TZID=America/New_York:20260205T235959
DTSTAMP:20260422T052303
CREATED:20250722T143539Z
LAST-MODIFIED:20251117T130622Z
UID:10000649-1770249600-1770335999@e3familysolutions.org
SUMMARY:WMHS-Session 2
DESCRIPTION:
URL:https://e3familysolutions.org/event/wmhs-session-2-2/
LOCATION:Wildwood Middle High School\, 700 Huey St\, Wildwood\, FL\, United States
GEO:28.858149;-82.032449
X-APPLE-STRUCTURED-LOCATION;VALUE=URI;X-ADDRESS=Wildwood Middle High School 700 Huey St Wildwood FL United States;X-APPLE-RADIUS=500;X-TITLE=700 Huey St:geo:-82.032449,28.858149
END:VEVENT
BEGIN:VEVENT
DTSTART;TZID=America/New_York:20260207T000000
DTEND;TZID=America/New_York:20260207T235959
DTSTAMP:20260422T052303
CREATED:20250827T175229Z
LAST-MODIFIED:20251117T130622Z
UID:10000696-1770422400-1770508799@e3familysolutions.org
SUMMARY:NATIONAL MARRIAGE WEEK
DESCRIPTION:https://nationaltoday.com/national-marriage-week/
URL:https://e3familysolutions.org/event/national-marriage-week-2/
END:VEVENT
BEGIN:VEVENT
DTSTART;TZID=America/New_York:20260208T000000
DTEND;TZID=America/New_York:20260208T235959
DTSTAMP:20260422T052303
CREATED:20250827T175229Z
LAST-MODIFIED:20251117T130622Z
UID:10000695-1770508800-1770595199@e3familysolutions.org
SUMMARY:NATIONAL MARRIAGE WEEK
DESCRIPTION:https://nationaltoday.com/national-marriage-week/
URL:https://e3familysolutions.org/event/national-marriage-week/
END:VEVENT
BEGIN:VEVENT
DTSTART;TZID=America/New_York:20260209T000000
DTEND;TZID=America/New_York:20260209T235959
DTSTAMP:20260422T052303
CREATED:20250827T175229Z
LAST-MODIFIED:20251117T130622Z
UID:10000699-1770595200-1770681599@e3familysolutions.org
SUMMARY:NATIONAL MARRIAGE WEEK
DESCRIPTION:https://nationaltoday.com/national-marriage-week/
URL:https://e3familysolutions.org/event/national-marriage-week-5/
END:VEVENT
BEGIN:VEVENT
DTSTART;TZID=America/New_York:20260210T000000
DTEND;TZID=America/New_York:20260210T235959
DTSTAMP:20260422T052303
CREATED:20250722T143539Z
LAST-MODIFIED:20251117T130623Z
UID:10000650-1770681600-1770767999@e3familysolutions.org
SUMMARY:WMHS-Session 3
DESCRIPTION:
URL:https://e3familysolutions.org/event/wmhs-session-3-2/
LOCATION:Wildwood Middle High School\, 700 Huey St\, Wildwood\, FL\, United States
GEO:28.858149;-82.032449
X-APPLE-STRUCTURED-LOCATION;VALUE=URI;X-ADDRESS=Wildwood Middle High School 700 Huey St Wildwood FL United States;X-APPLE-RADIUS=500;X-TITLE=700 Huey St:geo:-82.032449,28.858149
END:VEVENT
BEGIN:VEVENT
DTSTART;TZID=America/New_York:20260210T000000
DTEND;TZID=America/New_York:20260210T235959
DTSTAMP:20260422T052303
CREATED:20250827T175229Z
LAST-MODIFIED:20251117T130622Z
UID:10000698-1770681600-1770767999@e3familysolutions.org
SUMMARY:NATIONAL MARRIAGE WEEK
DESCRIPTION:https://nationaltoday.com/national-marriage-week/
URL:https://e3familysolutions.org/event/national-marriage-week-4/
END:VEVENT
BEGIN:VEVENT
DTSTART;TZID=America/New_York:20260210T090000
DTEND;TZID=America/New_York:20260210T100000
DTSTAMP:20260422T052303
CREATED:20250712T132057Z
LAST-MODIFIED:20251117T130622Z
UID:10000612-1770714000-1770717600@e3familysolutions.org
SUMMARY:Florida Tobacco Free Coalition
DESCRIPTION:
URL:https://e3familysolutions.org/event/florida-tobacco-free-coalition-7/
END:VEVENT
BEGIN:VEVENT
DTSTART;TZID=America/New_York:20260210T120000
DTEND;TZID=America/New_York:20260210T130000
DTSTAMP:20260422T052303
CREATED:20240210T091826Z
LAST-MODIFIED:20251117T130622Z
UID:10000546-1770724800-1770728400@e3familysolutions.org
SUMMARY:Sumter CAP Coalition Meeting
DESCRIPTION:
URL:https://e3familysolutions.org/event/sumter-cap-coalition-meeting-21/
END:VEVENT
BEGIN:VEVENT
DTSTART;TZID=America/New_York:20260211T000000
DTEND;TZID=America/New_York:20260211T235959
DTSTAMP:20260422T052303
CREATED:20250827T175229Z
LAST-MODIFIED:20251117T130622Z
UID:10000697-1770768000-1770854399@e3familysolutions.org
SUMMARY:NATIONAL MARRIAGE WEEK
DESCRIPTION:https://nationaltoday.com/national-marriage-week/
URL:https://e3familysolutions.org/event/national-marriage-week-3/
END:VEVENT
BEGIN:VEVENT
DTSTART;TZID=America/New_York:20260212T000000
DTEND;TZID=America/New_York:20260212T235959
DTSTAMP:20260422T052303
CREATED:20250722T143540Z
LAST-MODIFIED:20251117T130623Z
UID:10000651-1770854400-1770940799@e3familysolutions.org
SUMMARY:WMHS-Session 4
DESCRIPTION:
URL:https://e3familysolutions.org/event/wmhs-session-4-2/
LOCATION:Wildwood Middle High School\, 700 Huey St\, Wildwood\, FL\, United States
GEO:28.858149;-82.032449
X-APPLE-STRUCTURED-LOCATION;VALUE=URI;X-ADDRESS=Wildwood Middle High School 700 Huey St Wildwood FL United States;X-APPLE-RADIUS=500;X-TITLE=700 Huey St:geo:-82.032449,28.858149
END:VEVENT
BEGIN:VEVENT
DTSTART;TZID=America/New_York:20260212T000000
DTEND;TZID=America/New_York:20260212T235959
DTSTAMP:20260422T052303
CREATED:20250827T175229Z
LAST-MODIFIED:20251117T130623Z
UID:10000700-1770854400-1770940799@e3familysolutions.org
SUMMARY:NATIONAL MARRIAGE WEEK
DESCRIPTION:https://nationaltoday.com/national-marriage-week/
URL:https://e3familysolutions.org/event/national-marriage-week-6/
END:VEVENT
BEGIN:VEVENT
DTSTART;TZID=America/New_York:20260212T100000
DTEND;TZID=America/New_York:20260212T110000
DTSTAMP:20260422T052303
CREATED:20240212T093721Z
LAST-MODIFIED:20240414T163710Z
UID:10000547-1770890400-1770894000@e3familysolutions.org
SUMMARY:Nature Coast Human Trafficking Task Force
DESCRIPTION:janine kell is inviting you to a scheduled Zoom meeting.\nTopic: Nature Coast Human Trafficking Task Force\nTime: This is a recurring meeting Meet anytime\nJoin Zoom Meeting\nhttps://us06web.zoom.us/j/84621778187?pwd=UGkzM1doUUw3U0hyUE5WOFFXdFFmZz09\nMeeting ID: 846 2177 8187\nPasscode: 747719\nOne tap mobile\n+13052241968\,\,84621778187#\,\,\,\,*747719# US\n+16468769923\,\,84621778187#\,\,\,\,*747719# US (New York)\nDial by your location\n        +1 305 224 1968 US\n        +1 646 876 9923 US (New York)\n        +1 646 931 3860 US\n        +1 301 715 8592 US (Washington DC)\n        +1 309 205 3325 US\n        +1 312 626 6799 US (Chicago)\n        +1 253 215 8782 US (Tacoma)\n        +1 346 248 7799 US (Houston)\n        +1 360 209 5623 US\n        +1 386 347 5053 US\n        +1 408 638 0968 US (San Jose)\n        +1 507 473 4847 US\n        +1 564 217 2000 US\n        +1 669 444 9171 US\n        +1 669 900 6833 US (San Jose)\n        +1 689 278 1000 US\n        +1 719 359 4580 US\n        +1 253 205 0468 US\nMeeting ID: 846 2177 8187\nPasscode: 747719\nFind your local number: https://us06web.zoom.us/u/kdkNTCSCKI
URL:https://e3familysolutions.org/event/nature-coast-human-trafficking-task-force-33/
END:VEVENT
BEGIN:VEVENT
DTSTART;TZID=America/New_York:20260213T000000
DTEND;TZID=America/New_York:20260213T235959
DTSTAMP:20260422T052303
CREATED:20250827T175230Z
LAST-MODIFIED:20251117T130623Z
UID:10000701-1770940800-1771027199@e3familysolutions.org
SUMMARY:NATIONAL MARRIAGE WEEK
DESCRIPTION:https://nationaltoday.com/national-marriage-week/
URL:https://e3familysolutions.org/event/national-marriage-week-7/
END:VEVENT
BEGIN:VEVENT
DTSTART;TZID=America/New_York:20260214T000000
DTEND;TZID=America/New_York:20260214T235959
DTSTAMP:20260422T052303
CREATED:20250827T175230Z
LAST-MODIFIED:20251117T130623Z
UID:10000702-1771027200-1771113599@e3familysolutions.org
SUMMARY:NATIONAL MARRIAGE WEEK
DESCRIPTION:https://nationaltoday.com/national-marriage-week/
URL:https://e3familysolutions.org/event/national-marriage-week-8/
END:VEVENT
BEGIN:VEVENT
DTSTART;TZID=America/New_York:20260217T000000
DTEND;TZID=America/New_York:20260217T235959
DTSTAMP:20260422T052303
CREATED:20250722T143540Z
LAST-MODIFIED:20251117T130623Z
UID:10000652-1771286400-1771372799@e3familysolutions.org
SUMMARY:WMHS-Session 5
DESCRIPTION:
URL:https://e3familysolutions.org/event/wmhs-session-5-2/
LOCATION:Wildwood Middle High School\, 700 Huey St\, Wildwood\, FL\, United States
GEO:28.858149;-82.032449
X-APPLE-STRUCTURED-LOCATION;VALUE=URI;X-ADDRESS=Wildwood Middle High School 700 Huey St Wildwood FL United States;X-APPLE-RADIUS=500;X-TITLE=700 Huey St:geo:-82.032449,28.858149
END:VEVENT
BEGIN:VEVENT
DTSTART;TZID=America/New_York:20260219T000000
DTEND;TZID=America/New_York:20260219T235959
DTSTAMP:20260422T052303
CREATED:20250722T143540Z
LAST-MODIFIED:20251117T130623Z
UID:10000653-1771459200-1771545599@e3familysolutions.org
SUMMARY:WMHS-Session 6
DESCRIPTION:
URL:https://e3familysolutions.org/event/wmhs-session-6-2/
LOCATION:Wildwood Middle High School\, 700 Huey St\, Wildwood\, FL\, United States
GEO:28.858149;-82.032449
X-APPLE-STRUCTURED-LOCATION;VALUE=URI;X-ADDRESS=Wildwood Middle High School 700 Huey St Wildwood FL United States;X-APPLE-RADIUS=500;X-TITLE=700 Huey St:geo:-82.032449,28.858149
END:VEVENT
BEGIN:VEVENT
DTSTART;TZID=America/Denver:20260223T080000
DTEND;TZID=America/Denver:20260223T160000
DTSTAMP:20260422T052303
CREATED:20250827T175230Z
LAST-MODIFIED:20251117T130623Z
UID:10000703-1771833600-1771862400@e3familysolutions.org
SUMMARY:Children’s Week Tallahassee
DESCRIPTION:
URL:https://e3familysolutions.org/event/childrens-week-tallahassee/
LOCATION:Florida State Capitol\, 400 S Monroe St\, Tallahassee\, FL\, United States
GEO:30.438122;-84.280632
X-APPLE-STRUCTURED-LOCATION;VALUE=URI;X-ADDRESS=Florida State Capitol 400 S Monroe St Tallahassee FL United States;X-APPLE-RADIUS=500;X-TITLE=400 S Monroe St:geo:-84.280632,30.438122
END:VEVENT
BEGIN:VEVENT
DTSTART;TZID=America/New_York:20260224T000000
DTEND;TZID=America/New_York:20260224T235959
DTSTAMP:20260422T052303
CREATED:20250722T143540Z
LAST-MODIFIED:20251117T130624Z
UID:10000654-1771891200-1771977599@e3familysolutions.org
SUMMARY:WMHS-Session 7
DESCRIPTION:
URL:https://e3familysolutions.org/event/wmhs-session-7-2/
LOCATION:Wildwood Middle High School\, 700 Huey St\, Wildwood\, FL\, United States
GEO:28.858149;-82.032449
X-APPLE-STRUCTURED-LOCATION;VALUE=URI;X-ADDRESS=Wildwood Middle High School 700 Huey St Wildwood FL United States;X-APPLE-RADIUS=500;X-TITLE=700 Huey St:geo:-82.032449,28.858149
END:VEVENT
BEGIN:VEVENT
DTSTART;TZID=America/New_York:20260224T100000
DTEND;TZID=America/New_York:20260224T180000
DTSTAMP:20260422T052303
CREATED:20250827T175230Z
LAST-MODIFIED:20251117T130624Z
UID:10000704-1771927200-1771956000@e3familysolutions.org
SUMMARY:Children’s Week Tallahassee
DESCRIPTION:
URL:https://e3familysolutions.org/event/childrens-week-tallahassee-2/
LOCATION:Florida State Capitol\, 400 S Monroe St\, Tallahassee\, FL\, United States
GEO:30.438122;-84.280632
X-APPLE-STRUCTURED-LOCATION;VALUE=URI;X-ADDRESS=Florida State Capitol 400 S Monroe St Tallahassee FL United States;X-APPLE-RADIUS=500;X-TITLE=400 S Monroe St:geo:-84.280632,30.438122
END:VEVENT
BEGIN:VEVENT
DTSTART;TZID=America/New_York:20260225T100000
DTEND;TZID=America/New_York:20260225T180000
DTSTAMP:20260422T052303
CREATED:20250827T175231Z
LAST-MODIFIED:20251117T130624Z
UID:10000705-1772013600-1772042400@e3familysolutions.org
SUMMARY:Children’s Week Tallahassee
DESCRIPTION:
URL:https://e3familysolutions.org/event/childrens-week-tallahassee-3/
LOCATION:Florida State Capitol\, 400 S Monroe St\, Tallahassee\, FL\, United States
GEO:30.438122;-84.280632
X-APPLE-STRUCTURED-LOCATION;VALUE=URI;X-ADDRESS=Florida State Capitol 400 S Monroe St Tallahassee FL United States;X-APPLE-RADIUS=500;X-TITLE=400 S Monroe St:geo:-84.280632,30.438122
END:VEVENT
BEGIN:VEVENT
DTSTART;TZID=America/New_York:20260226T000000
DTEND;TZID=America/New_York:20260226T235959
DTSTAMP:20260422T052303
CREATED:20250722T143540Z
LAST-MODIFIED:20251117T130624Z
UID:10000655-1772064000-1772150399@e3familysolutions.org
SUMMARY:WMHS-Session 8
DESCRIPTION:
URL:https://e3familysolutions.org/event/wmhs-session-8-2/
LOCATION:Wildwood Middle High School\, 700 Huey St\, Wildwood\, FL\, United States
GEO:28.858149;-82.032449
X-APPLE-STRUCTURED-LOCATION;VALUE=URI;X-ADDRESS=Wildwood Middle High School 700 Huey St Wildwood FL United States;X-APPLE-RADIUS=500;X-TITLE=700 Huey St:geo:-82.032449,28.858149
END:VEVENT
BEGIN:VEVENT
DTSTART;TZID=America/New_York:20260226T100000
DTEND;TZID=America/New_York:20260226T180000
DTSTAMP:20260422T052303
CREATED:20250827T175231Z
LAST-MODIFIED:20251117T130624Z
UID:10000706-1772100000-1772128800@e3familysolutions.org
SUMMARY:Children’s Week Tallahassee
DESCRIPTION:
URL:https://e3familysolutions.org/event/childrens-week-tallahassee-4/
LOCATION:Florida State Capitol\, 400 S Monroe St\, Tallahassee\, FL\, United States
GEO:30.438122;-84.280632
X-APPLE-STRUCTURED-LOCATION;VALUE=URI;X-ADDRESS=Florida State Capitol 400 S Monroe St Tallahassee FL United States;X-APPLE-RADIUS=500;X-TITLE=400 S Monroe St:geo:-84.280632,30.438122
END:VEVENT
BEGIN:VEVENT
DTSTART;TZID=America/New_York:20260227T100000
DTEND;TZID=America/New_York:20260227T180000
DTSTAMP:20260422T052303
CREATED:20250827T175231Z
LAST-MODIFIED:20251117T130624Z
UID:10000707-1772186400-1772215200@e3familysolutions.org
SUMMARY:Children’s Week Tallahassee
DESCRIPTION:
URL:https://e3familysolutions.org/event/childrens-week-tallahassee-5/
LOCATION:Florida State Capitol\, 400 S Monroe St\, Tallahassee\, FL\, United States
GEO:30.438122;-84.280632
X-APPLE-STRUCTURED-LOCATION;VALUE=URI;X-ADDRESS=Florida State Capitol 400 S Monroe St Tallahassee FL United States;X-APPLE-RADIUS=500;X-TITLE=400 S Monroe St:geo:-84.280632,30.438122
END:VEVENT
END:VCALENDAR