BEGIN:VCALENDAR
VERSION:2.0
PRODID:-//E3 Family Solutions - ECPv6.15.13//NONSGML v1.0//EN
CALSCALE:GREGORIAN
METHOD:PUBLISH
X-ORIGINAL-URL:https://e3familysolutions.org
X-WR-CALDESC:Events for E3 Family Solutions
REFRESH-INTERVAL;VALUE=DURATION:PT1H
X-Robots-Tag:noindex
X-PUBLISHED-TTL:PT1H
BEGIN:VTIMEZONE
TZID:America/New_York
BEGIN:DAYLIGHT
TZOFFSETFROM:-0500
TZOFFSETTO:-0400
TZNAME:EDT
DTSTART:20250309T070000
END:DAYLIGHT
BEGIN:STANDARD
TZOFFSETFROM:-0400
TZOFFSETTO:-0500
TZNAME:EST
DTSTART:20251102T060000
END:STANDARD
BEGIN:DAYLIGHT
TZOFFSETFROM:-0500
TZOFFSETTO:-0400
TZNAME:EDT
DTSTART:20260308T070000
END:DAYLIGHT
BEGIN:STANDARD
TZOFFSETFROM:-0400
TZOFFSETTO:-0500
TZNAME:EST
DTSTART:20261101T060000
END:STANDARD
BEGIN:DAYLIGHT
TZOFFSETFROM:-0500
TZOFFSETTO:-0400
TZNAME:EDT
DTSTART:20270314T070000
END:DAYLIGHT
BEGIN:STANDARD
TZOFFSETFROM:-0400
TZOFFSETTO:-0500
TZNAME:EST
DTSTART:20271107T060000
END:STANDARD
END:VTIMEZONE
BEGIN:VTIMEZONE
TZID:America/Denver
BEGIN:DAYLIGHT
TZOFFSETFROM:-0700
TZOFFSETTO:-0600
TZNAME:MDT
DTSTART:20250309T090000
END:DAYLIGHT
BEGIN:STANDARD
TZOFFSETFROM:-0600
TZOFFSETTO:-0700
TZNAME:MST
DTSTART:20251102T080000
END:STANDARD
BEGIN:DAYLIGHT
TZOFFSETFROM:-0700
TZOFFSETTO:-0600
TZNAME:MDT
DTSTART:20260308T090000
END:DAYLIGHT
BEGIN:STANDARD
TZOFFSETFROM:-0600
TZOFFSETTO:-0700
TZNAME:MST
DTSTART:20261101T080000
END:STANDARD
BEGIN:DAYLIGHT
TZOFFSETFROM:-0700
TZOFFSETTO:-0600
TZNAME:MDT
DTSTART:20270314T090000
END:DAYLIGHT
BEGIN:STANDARD
TZOFFSETFROM:-0600
TZOFFSETTO:-0700
TZNAME:MST
DTSTART:20271107T080000
END:STANDARD
END:VTIMEZONE
BEGIN:VEVENT
DTSTART;TZID=America/New_York:20260217T000000
DTEND;TZID=America/New_York:20260217T235959
DTSTAMP:20260216T181319
CREATED:20250722T143540Z
LAST-MODIFIED:20251117T130623Z
UID:10000652-1771286400-1771372799@e3familysolutions.org
SUMMARY:WMHS-Session 5
DESCRIPTION:
URL:https://e3familysolutions.org/event/wmhs-session-5-2/
LOCATION:Wildwood Middle High School\, 700 Huey St\, Wildwood\, FL\, United States
GEO:28.858149;-82.032449
X-APPLE-STRUCTURED-LOCATION;VALUE=URI;X-ADDRESS=Wildwood Middle High School 700 Huey St Wildwood FL United States;X-APPLE-RADIUS=500;X-TITLE=700 Huey St:geo:-82.032449,28.858149
END:VEVENT
BEGIN:VEVENT
DTSTART;TZID=America/New_York:20260219T000000
DTEND;TZID=America/New_York:20260219T235959
DTSTAMP:20260216T181319
CREATED:20250722T143540Z
LAST-MODIFIED:20251117T130623Z
UID:10000653-1771459200-1771545599@e3familysolutions.org
SUMMARY:WMHS-Session 6
DESCRIPTION:
URL:https://e3familysolutions.org/event/wmhs-session-6-2/
LOCATION:Wildwood Middle High School\, 700 Huey St\, Wildwood\, FL\, United States
GEO:28.858149;-82.032449
X-APPLE-STRUCTURED-LOCATION;VALUE=URI;X-ADDRESS=Wildwood Middle High School 700 Huey St Wildwood FL United States;X-APPLE-RADIUS=500;X-TITLE=700 Huey St:geo:-82.032449,28.858149
END:VEVENT
BEGIN:VEVENT
DTSTART;TZID=America/Denver:20260223T080000
DTEND;TZID=America/Denver:20260223T160000
DTSTAMP:20260216T181319
CREATED:20250827T175230Z
LAST-MODIFIED:20251117T130623Z
UID:10000703-1771833600-1771862400@e3familysolutions.org
SUMMARY:Children’s Week Tallahassee
DESCRIPTION:
URL:https://e3familysolutions.org/event/childrens-week-tallahassee/
LOCATION:Florida State Capitol\, 400 S Monroe St\, Tallahassee\, FL\, United States
GEO:30.438122;-84.280632
X-APPLE-STRUCTURED-LOCATION;VALUE=URI;X-ADDRESS=Florida State Capitol 400 S Monroe St Tallahassee FL United States;X-APPLE-RADIUS=500;X-TITLE=400 S Monroe St:geo:-84.280632,30.438122
END:VEVENT
BEGIN:VEVENT
DTSTART;TZID=America/New_York:20260224T000000
DTEND;TZID=America/New_York:20260224T235959
DTSTAMP:20260216T181319
CREATED:20250722T143540Z
LAST-MODIFIED:20251117T130624Z
UID:10000654-1771891200-1771977599@e3familysolutions.org
SUMMARY:WMHS-Session 7
DESCRIPTION:
URL:https://e3familysolutions.org/event/wmhs-session-7-2/
LOCATION:Wildwood Middle High School\, 700 Huey St\, Wildwood\, FL\, United States
GEO:28.858149;-82.032449
X-APPLE-STRUCTURED-LOCATION;VALUE=URI;X-ADDRESS=Wildwood Middle High School 700 Huey St Wildwood FL United States;X-APPLE-RADIUS=500;X-TITLE=700 Huey St:geo:-82.032449,28.858149
END:VEVENT
BEGIN:VEVENT
DTSTART;TZID=America/New_York:20260224T100000
DTEND;TZID=America/New_York:20260224T180000
DTSTAMP:20260216T181319
CREATED:20250827T175230Z
LAST-MODIFIED:20251117T130624Z
UID:10000704-1771927200-1771956000@e3familysolutions.org
SUMMARY:Children’s Week Tallahassee
DESCRIPTION:
URL:https://e3familysolutions.org/event/childrens-week-tallahassee-2/
LOCATION:Florida State Capitol\, 400 S Monroe St\, Tallahassee\, FL\, United States
GEO:30.438122;-84.280632
X-APPLE-STRUCTURED-LOCATION;VALUE=URI;X-ADDRESS=Florida State Capitol 400 S Monroe St Tallahassee FL United States;X-APPLE-RADIUS=500;X-TITLE=400 S Monroe St:geo:-84.280632,30.438122
END:VEVENT
BEGIN:VEVENT
DTSTART;TZID=America/New_York:20260225T100000
DTEND;TZID=America/New_York:20260225T180000
DTSTAMP:20260216T181319
CREATED:20250827T175231Z
LAST-MODIFIED:20251117T130624Z
UID:10000705-1772013600-1772042400@e3familysolutions.org
SUMMARY:Children’s Week Tallahassee
DESCRIPTION:
URL:https://e3familysolutions.org/event/childrens-week-tallahassee-3/
LOCATION:Florida State Capitol\, 400 S Monroe St\, Tallahassee\, FL\, United States
GEO:30.438122;-84.280632
X-APPLE-STRUCTURED-LOCATION;VALUE=URI;X-ADDRESS=Florida State Capitol 400 S Monroe St Tallahassee FL United States;X-APPLE-RADIUS=500;X-TITLE=400 S Monroe St:geo:-84.280632,30.438122
END:VEVENT
BEGIN:VEVENT
DTSTART;TZID=America/New_York:20260226T000000
DTEND;TZID=America/New_York:20260226T235959
DTSTAMP:20260216T181319
CREATED:20250722T143540Z
LAST-MODIFIED:20251117T130624Z
UID:10000655-1772064000-1772150399@e3familysolutions.org
SUMMARY:WMHS-Session 8
DESCRIPTION:
URL:https://e3familysolutions.org/event/wmhs-session-8-2/
LOCATION:Wildwood Middle High School\, 700 Huey St\, Wildwood\, FL\, United States
GEO:28.858149;-82.032449
X-APPLE-STRUCTURED-LOCATION;VALUE=URI;X-ADDRESS=Wildwood Middle High School 700 Huey St Wildwood FL United States;X-APPLE-RADIUS=500;X-TITLE=700 Huey St:geo:-82.032449,28.858149
END:VEVENT
BEGIN:VEVENT
DTSTART;TZID=America/New_York:20260226T100000
DTEND;TZID=America/New_York:20260226T180000
DTSTAMP:20260216T181319
CREATED:20250827T175231Z
LAST-MODIFIED:20251117T130624Z
UID:10000706-1772100000-1772128800@e3familysolutions.org
SUMMARY:Children’s Week Tallahassee
DESCRIPTION:
URL:https://e3familysolutions.org/event/childrens-week-tallahassee-4/
LOCATION:Florida State Capitol\, 400 S Monroe St\, Tallahassee\, FL\, United States
GEO:30.438122;-84.280632
X-APPLE-STRUCTURED-LOCATION;VALUE=URI;X-ADDRESS=Florida State Capitol 400 S Monroe St Tallahassee FL United States;X-APPLE-RADIUS=500;X-TITLE=400 S Monroe St:geo:-84.280632,30.438122
END:VEVENT
BEGIN:VEVENT
DTSTART;TZID=America/New_York:20260227T100000
DTEND;TZID=America/New_York:20260227T180000
DTSTAMP:20260216T181319
CREATED:20250827T175231Z
LAST-MODIFIED:20251117T130624Z
UID:10000707-1772186400-1772215200@e3familysolutions.org
SUMMARY:Children’s Week Tallahassee
DESCRIPTION:
URL:https://e3familysolutions.org/event/childrens-week-tallahassee-5/
LOCATION:Florida State Capitol\, 400 S Monroe St\, Tallahassee\, FL\, United States
GEO:30.438122;-84.280632
X-APPLE-STRUCTURED-LOCATION;VALUE=URI;X-ADDRESS=Florida State Capitol 400 S Monroe St Tallahassee FL United States;X-APPLE-RADIUS=500;X-TITLE=400 S Monroe St:geo:-84.280632,30.438122
END:VEVENT
END:VCALENDAR